BEGIN:VCALENDAR
VERSION:2.0
PRODID:-//XXCongressonazionaleTSRM - ECPv6.3.3//NONSGML v1.0//EN
CALSCALE:GREGORIAN
METHOD:PUBLISH
X-ORIGINAL-URL:https://www.congressonazionaletsrm.it
X-WR-CALDESC:Eventi per XXCongressonazionaleTSRM
REFRESH-INTERVAL;VALUE=DURATION:PT1H
X-Robots-Tag:noindex
X-PUBLISHED-TTL:PT1H
BEGIN:VTIMEZONE
TZID:UTC
BEGIN:STANDARD
TZOFFSETFROM:+0000
TZOFFSETTO:+0000
TZNAME:UTC
DTSTART:20150101T000000
END:STANDARD
END:VTIMEZONE
BEGIN:VEVENT
DTSTART;TZID=UTC:20150417T090000
DTEND;TZID=UTC:20150419T170000
DTSTAMP:20260421T173501
CREATED:20170721T033914Z
LAST-MODIFIED:20200729T150157Z
UID:943-1429261200-1429462800@www.congressonazionaletsrm.it
SUMMARY:16° Congresso Nazionale TSRM
DESCRIPTION:Il congresso nazionale del 2015 è stata l’occasione per celebrare il 50° anniversario dal riconoscimento giuridico del tecnico di radiologia medica\, allora arte ausiliaria sanitaria.\nMezzo secolo in cui è cambiato tutto: la società\, i bisogni di salute\, la formazione\, i modelli organizzati\, le tecnologie\, i TSRM.\nMezzo secolo nel quale è anche cambiato il paradigma alla base delle professioni. 50 anni fa i tecnici di radiologia medica gioivano per il giusto riconoscimento legislativo.\nA distanza di 50 anni la professione sta facendo la fatica imposta dal nuovo modello basato sulle competenze.\nLa legittimazione di una professione non passa più tanto dall’elemento formale\, quale può essere la norma\, che rimane comunque un tassello imprescindibile\, quanto dall’elemento sostanziale: la competenza\, intesa come capacità di riconoscere i bisogni di salute e di sistema e\, soprattutto\, capacità di rispondervi attraverso specifici contributi professionali.\nDestinatari dell’iniziativa sono stati i 27.000 Tecnici Sanitari di Radiologia Medica che esercitano la loro attività nelle varie branche specialistiche e gli studenti dei corsi di laurea.\nIl 16° Congresso Nazionale ha visto lo svolgimento\, come consolidato nei precedenti congressi\, di due momenti formativi distinti ovvero le sessioni plenarie istituzionali e i corsi di approfondimento monotematici.
URL:https://www.congressonazionaletsrm.it/event/technology-and-web-conferece-2017/
LOCATION:Riccione\, Viale Virgilio 17\, Riccione\, 47838\, Italia
CATEGORIES:Business
ATTACH;FMTTYPE=application/pdf:https://www.congressonazionaletsrm.it/wp-content/uploads/2017/07/Congresso-2015.pdf
END:VEVENT
END:VCALENDAR